BEGIN:VCALENDAR
VERSION:2.0
PRODID:-//Join us! - ECPv6.15.20//NONSGML v1.0//EN
CALSCALE:GREGORIAN
METHOD:PUBLISH
X-WR-CALNAME:Join us!
X-ORIGINAL-URL:https://jenleeforme.com
X-WR-CALDESC:Events for Join us!
REFRESH-INTERVAL;VALUE=DURATION:PT1H
X-Robots-Tag:noindex
X-PUBLISHED-TTL:PT1H
BEGIN:VTIMEZONE
TZID:America/New_York
BEGIN:DAYLIGHT
TZOFFSETFROM:-0500
TZOFFSETTO:-0400
TZNAME:EDT
DTSTART:20250309T070000
END:DAYLIGHT
BEGIN:STANDARD
TZOFFSETFROM:-0400
TZOFFSETTO:-0500
TZNAME:EST
DTSTART:20251102T060000
END:STANDARD
BEGIN:DAYLIGHT
TZOFFSETFROM:-0500
TZOFFSETTO:-0400
TZNAME:EDT
DTSTART:20260308T070000
END:DAYLIGHT
BEGIN:STANDARD
TZOFFSETFROM:-0400
TZOFFSETTO:-0500
TZNAME:EST
DTSTART:20261101T060000
END:STANDARD
BEGIN:DAYLIGHT
TZOFFSETFROM:-0500
TZOFFSETTO:-0400
TZNAME:EDT
DTSTART:20270314T070000
END:DAYLIGHT
BEGIN:STANDARD
TZOFFSETFROM:-0400
TZOFFSETTO:-0500
TZNAME:EST
DTSTART:20271107T060000
END:STANDARD
END:VTIMEZONE
BEGIN:VEVENT
DTSTART;TZID=America/New_York:20260421T180000
DTEND;TZID=America/New_York:20260421T200000
DTSTAMP:20260421T022650
CREATED:20260326T194447Z
LAST-MODIFIED:20260413T184922Z
UID:10012690-1776794400-1776801600@jenleeforme.com
SUMMARY:Palm Beach Republican Club Meeting
DESCRIPTION:Tickets required. Admission for members is $120 and non-members is $150. Event begins with an hour reception with Passed Hor d’oeuvres\, followed by an hour and a half discussion with guest speakers and a Q& A.  For more info contact Anita Carbone via email at anitahcarbone@gmail.com or phone at (561) 346-7787. Advanced ticket purchase is required. Get tickets at https://palmbeachrepublicanclub.org/events. \nThis month’s featured speaker is Lieutenant Governor Jay Collins.
URL:https://jenleeforme.com/events/palm-beach-republican-club-meeting-7/
LOCATION:The Colony Hotel\, 155 Hammon Av\, Palm Beach\, FL\, 33480\, United States
CATEGORIES:Cocktails Available,Federated or Chartered Republican Club Sponsored,Food Available,Inside,Meeting Format,Paid Event,Public Event,RSVP or Ticket Required,Speakers
ATTACH;FMTTYPE=image/jpeg:https://jenleeforme.com/wp-content/uploads/2024/09/Palm-Beach-Republican-Club.jpg
ORGANIZER;CN="Palm Beach Republican Club (PBRC)":MAILTO:info@palmbeachrepublicanclub.org
END:VEVENT
BEGIN:VEVENT
DTSTART;TZID=America/New_York:20260421T180000
DTEND;TZID=America/New_York:20260421T210000
DTSTAMP:20260421T022650
CREATED:20260125T200713Z
LAST-MODIFIED:20260125T201039Z
UID:10012252-1776794400-1776805200@jenleeforme.com
SUMMARY:The America First Club Dinner
DESCRIPTION:Enjoy a fabulous buffet dinner and listen to a prominent speaker\, who will be announced later. The will be a cash bar\, MAGA music and more. A ticket is required\, so please check back\, as tickets are not available yet.
URL:https://jenleeforme.com/events/the-america-first-club-3/
LOCATION:Trump International Golf Club\, 3505 Summit Blvd\, West Palm Beach\, FL\, 33406\, United States
CATEGORIES:Cocktails Available,Food Available,Inside,Paid Event,Public Event,RSVP or Ticket Required,Social Event,Speakers
ATTACH;FMTTYPE=image/jpeg:https://jenleeforme.com/wp-content/uploads/2026/01/America-First-Club.jpg
ORGANIZER;CN="America First Club":MAILTO:rebeccaharary@americafirstclub.com
END:VEVENT
BEGIN:VEVENT
DTSTART;TZID=America/New_York:20260421T190000
DTEND;TZID=America/New_York:20260421T203000
DTSTAMP:20260421T022650
CREATED:20250818T161156Z
LAST-MODIFIED:20250818T161157Z
UID:10002933-1776798000-1776803400@jenleeforme.com
SUMMARY:Palm Beach County REC South County Meeting
DESCRIPTION:This meeting is for Republican Executive Committee (REC) members who live in south Palm Beach County. Guests are welcome. If you want to know about joining the REC\, please visit www.palmbeach.gop/republican-executive-committee-rec or call (561) 686-1616.
URL:https://jenleeforme.com/events/rec-south-county-meeting-3-2/2026-04-21/
LOCATION:South County Civic Center\, 16700 Jog Rd\, Delray Beach\, FL\, 33446\, United States
CATEGORIES:Free Event,Meeting Format,Official Meeting of the Republican Party,Public Event,Speakers
ATTACH;FMTTYPE=image/jpeg:https://jenleeforme.com/wp-content/uploads/2025/01/South-County-Region-of-the-REC-.jpg
ORGANIZER;CN="Republican Party of Palm Beach County":MAILTO:Chairman@palmbeach.gop
END:VEVENT
BEGIN:VEVENT
DTSTART;TZID=America/New_York:20260421T191500
DTEND;TZID=America/New_York:20260421T210000
DTSTAMP:20260421T022650
CREATED:20250501T232427Z
LAST-MODIFIED:20250516T135528Z
UID:10011708-1776798900-1776805200@jenleeforme.com
SUMMARY:Hallandale and The Beaches Patriots Republican Club Meeting
DESCRIPTION:This event is free. You just pay for what you eat and drink. Doors open at 6:45pm and the event starts at 7:15pm. Please RSVP to (786) 999-3077 or WJL413@aol.com.
URL:https://jenleeforme.com/events/hallandale-and-the-beaches-patriots-republican-club-meeting/2026-04-21/
LOCATION:Red Lobster in Hollywood\, 2900 Oakwood Blvd\, Hollywood\, FL\, 33020\, United States
CATEGORIES:Cocktails Available,Food Available,Free Event,Inside,Meeting Format,Public Event,RSVP or Ticket Required,Social Event,Speakers
ATTACH;FMTTYPE=image/png:https://jenleeforme.com/wp-content/uploads/2025/04/Hallandale-and-the-Beaches-Patriots-Republican-Club.png
ORGANIZER;CN="Hallandale and the Beaches Patriots Republican Club":MAILTO:hallandaleandbeachespatriots@gmail.com
END:VEVENT
END:VCALENDAR